Workbook

Sheet 报价汇总表
A1: 报价汇总表
A2: 序号 | B2: 阀门类型 | C2: 报价（元） | D2: 3年维修系数（估） | E2: 最终报价
A3: 1 | B3: 直通调节阀 | C3: =直通调节阀!G44 -> 0 | D3: 1.5 | E3: =C3*D3 -> 0
A4: 2 | B4: 直通衬塑调节阀 | C4: =直通衬塑调节阀!Q23 -> 0 | D4: 1.5 | E4: =C4*D4 -> 0
A5: 3 | B5: 控制球阀 | C5: =控制球阀!I36 -> 0 | D5: 1.5 | E5: =C5*D5 -> 0
A6: 4 | B6: 控制衬塑球阀 | C6: =控制衬塑球阀!P19 -> 0 | D6: 1.5 | E6: =C6*D6 -> 0
A7: 5 | B7: 控制蝶阀 | C7: =控制蝶阀!Q19 -> 0 | D7: 1.5 | E7: =C7*D7 -> 0
A8: 6 | B8: 执行机构 | C8: =执行机构!N20 -> 0 | D8: 1.5 | E8: =C8*D8 -> 0
A9: 最终报价 | E9: =SUM(E3:E8) -> 0

Sheet 直通调节阀
A1: 直通调节阀分项报价表
A2: 序号 | B2: 压力等级 | C2: 项目、价格、通径 | E2: DN15及以下 | F2: DN25及以下 | G2: DN50 | H2: DN80 | I2: DN100 | J2: DN125 | K2: DN150 | L2: DN200 | M2: DN250 | N2: DN300 | O2: DN350 | P2: DN400及以上
A3: 1 | B3: PN10/PN16 | C3: 阀门解体，清理、研磨，更换阀内密封件，阀门整体装配,防腐处理。
C4: 清洗填料函，更换填料
C5: 补焊、修复阀体
C6: 补焊、修复阀芯、阀座、套筒
C7: 耐压测试、泄漏量测试
C8: 备件 | D8: 阀芯(316+STL)
D9: 阀座(316+STL)
D10: 阀杆(17-4PH)
D11: 阀笼、套筒(316+STL)
D12: 平衡密封环（FLOGY+油丝合金）
A13: 2 | B13: PN25/PN40 | C13: 阀门解体，清理、研磨，更换阀内密封件，阀门整体装配,防腐处理。
C14: 清洗填料函，更换填料
C15: 补焊、修复阀体
C16: 补焊、修复阀芯、阀座、套筒
C17: 耐压测试、泄漏量测试
C18: 备件 | D18: 阀芯(316+STL)
D19: 阀座(316+STL)
D20: 阀杆(17-4PH)
D21: 阀笼、套筒(316+STL)
D22: 平衡密封环（FLOGY+油丝合金）
A23: 2 | B23: PN64 | C23: 阀门解体，清理、研磨，更换阀内密封件，阀门整体装配,防腐处理。
C24: 清洗填料函，更换填料
C25: 补焊、修复阀体
C26: 补焊、修复阀芯、阀座、套筒
C27: 耐压测试、泄漏量测试
C28: 备件 | D28: 阀芯(316+STL)
D29: 阀座(316+STL)
D30: 阀杆(17-4PH)
D31: 阀笼、套筒(316+STL)
D32: 平衡密封环（FLOGY+油丝合金）
A33: 2 | B33: PN100 | C33: 阀门解体，清理、研磨，更换阀内密封件，阀门整体装配,防腐处理。
C34: 清洗填料函，更换填料
C35: 补焊、修复阀体
C36: 补焊、修复阀芯、阀座、套筒
C37: 耐压测试、泄漏量测试
C38: 备件 | D38: 阀芯(316+STL)
D39: 阀座(316+STL)
D40: 阀杆(17-4PH)
...

Sheet 直通衬塑调节阀
A1: 直通衬塑调节阀分项报价表
A2: 序号 | B2: 压力等级 | C2: 项目、价格、通径 | E2: DN15及以下 | F2: DN25 | G2: DN50 | H2: DN80 | I2: DN100 | J2: DN125 | K2: DN150 | L2: DN200 | M2: DN250 | N2: DN300 | O2: DN350 | P2: DN400及以上
A3: 1 | B3: PN10/PN16 | C3: 阀门解体，清理、研磨，更换阀内密封件，阀门整体装配,防腐处理。
C4: 清洗填料函，更换填料
C5: 补焊、修复阀体
C6: 补焊、修复阀芯、阀座、套筒
C7: 耐压测试、泄漏量测试
C8: 备件 | D8: 阀芯(304+F46)
D9: 阀座(PTFE)
D10: 阀杆(17-4PH+F46)
D11: 阀笼、套筒(304+F46)
D12: 平衡密封环（PTFE）
A13: 2 | B13: PN25/PN40 | C13: 阀门解体，清理、研磨，更换阀内密封件，阀门整体装配,防腐处理。
C14: 清洗填料函，更换填料
C15: 补焊、修复阀体
C16: 修复阀芯、阀座、套筒
C17: 耐压测试、泄漏量测试
C18: 备件 | D18: 阀芯(304+F46)
D19: 阀座(PTFE)
D20: 阀杆(17-4PH+F46)
D21: 阀笼、套筒(304+F46)
D22: 平衡密封环（PTFE）
E23: =SUM(E3:E22) -> 0 | F23: =SUM(F3:F22) -> 0 | G23: =SUM(G3:G22) -> 0 | H23: =SUM(H3:H22) -> 0 | I23: =SUM(I3:I22) -> 0 | J23: =SUM(J3:J22) -> 0 | K23: =SUM(K3:K22) -> 0 | L23: =SUM(L3:L22) -> 0 | ... P23: =SUM(P3:P22) -> 0 | Q23: =SUM(E23:P23) -> 0
A24: 总价（元）： | Q24: =Q23 -> 0

Sheet 控制球阀
A1: 控制球阀分项报价表
A2: 序号 | B2: 压力等级 | C2: 项目、价格、通径 | E2: DN15及以下 | F2: DN25 | G2: DN50 | H2: DN80(含DN65） | I2: DN100 | J2: DN125 | K2: DN150 | L2: DN200 | M2: DN250 | N2: DN300 | O2: DN350及以上
A3: 1 | B3: PN10/PN16 | C3: 阀门解体，清理、研磨，更换阀内密封件，阀门整体装配及防腐处理
C4: 清洗填料函，更换填料
C5: 球体、球座补焊、修复、喷涂、重新硬化
C6: 阀体补焊、修复、硬化处理
C7: 耐压测试、泄漏量测试
C8: 备件 | D8: 阀球（316+STL）
D9: 阀座（316+STL）
D10: 阀杆（17-4PH）
A11: 2 | B11: PN25/PN40 | C11: 阀门解体，清理、研磨，更换阀内密封件，阀门整体装配及防腐处理
C12: 清洗填料函，更换填料
C13: 球体、球座补焊、修复、喷涂、重新硬化
C14: 阀体补焊、修复、硬化处理
C15: 耐压测试、泄漏量测试
C16: 备件 | D16: 阀球（316+STL）
D17: 阀座（316+STL）
D18: 阀杆（17-4PH）
A19: 2 | B19: PN64 | C19: 阀门解体，清理、研磨，更换阀内密封件，阀门整体装配及防腐处理
C20: 清洗填料函，更换填料
C21: 球体、球座补焊、修复、喷涂、重新硬化
C22: 阀体补焊、修复、硬化处理
C23: 耐压测试、泄漏量测试
C24: 备件 | D24: 阀球（316+STL）
D25: 阀座（316+STL）
D26: 阀杆（17-4PH）
A27: 2 | B27: PN100 | C27: 阀门解体，清理、研磨，更换阀内密封件，阀门整体装配及防腐处理
C28: 清洗填料函，更换填料
C29: 球体、球座补焊、修复、喷涂、重新硬化
C30: 阀体补焊、修复、硬化处理
C31: 耐压测试、泄漏量测试
C32: 备件 | D32: 阀球（316+STL）
D33: 阀座（316+STL）
D34: 阀杆（17-4PH）
E35: =SUM(E3:E34) -> 0 | F35: =SUM(F3:F34) -> 0 | G35: =SUM(G3:G34) -> 0 | H35: =SUM(H3:H34) -> 0 | I35: =SUM(I3:I34) -> 0 | J35: =SUM(J3:J34) -> 0 | K35: =SUM(K3:K34) -> 0 | L35: =SUM(L3:L34) -> 0 | ... O35: =SUM(O3:O34) -> 0 | P35: =E35+F35+G35+H35+I35+J35+K35+L35+M35+N35+O35 -> 0
A36: 总价（元）： | I36: =P35 -> 0

Sheet 控制衬塑球阀
A1: 控制衬塑球阀分项报价表
A2: 序号 | B2: 压力等级 | C2: 项目、价格、通径 | E2: DN15及以下 | F2: DN25 | G2: DN50 | H2: DN80 | I2: DN100 | J2: DN125 | K2: DN150 | L2: DN200 | M2: DN250 | N2: DN300 | O2: DN350及以上
A3: 1 | B3: PN10/PN16 | C3: 阀门解体，清理、研磨，更换阀内密封件，阀门整体装配及防腐处理
C4: 清洗填料函，更换填料
C5: 球体、球座补焊、修复、喷涂、重新硬化
C6: 阀体补焊、修复、硬化处理
C7: 耐压测试、泄漏量测试
C8: 备件 | D8: 阀芯(304+F46)
D9: 阀座(PTFE)
D10: 阀杆(17-4PH+F46)
A11: 2 | B11: PN25/PN40 | C11: 阀门解体，清理、研磨，更换阀内密封件，阀门整体装配及防腐处理
C12: 清洗填料函，更换填料
C13: 球体、球座补焊、修复、喷涂、重新硬化
C14: 阀体补焊、修复、硬化处理
C15: 耐压测试、泄漏量测试
C16: 备件 | D16: 阀芯(304+F46)
D17: 阀座(PTFE)
D18: 阀杆(17-4PH+F46)
E19: =SUM(E3:E18) -> 0 | F19: =SUM(F3:F18) -> 0 | G19: =SUM(G3:G18) -> 0 | H19: =SUM(H3:H18) -> 0 | I19: =SUM(I3:I18) -> 0 | J19: =SUM(J3:J18) -> 0 | K19: =SUM(K3:K18) -> 0 | L19: =SUM(L3:L18) -> 0 | ... O19: =SUM(O3:O18) -> 0 | P19: =SUM(E19:O19) -> 0
A20: 总价（元）： | P20: =P19 -> 0

Sheet 控制蝶阀
A1: 控制蝶阀分项报价表
A2: 序号 | B2: 压力等级 | C2: 项目、价格、通径 | E2: DN150及以下 | F2: DN200 | G2: DN250 | H2: DN300 | I2: DN350 | J2: DN400 | K2: DN450 | L2: DN500 | M2: DN550 | N2: DN600 | O2: <=DN750 | P2: <=DN1600
A3: 1 | B3: PN10/PN16 | C3: 阀门解体，清理、更换阀内密封件，阀门整体装配及防腐处理
C4: 清洗填料函，更换填料，清理阀杆
C5: 阀体、蝶板、阀轴补焊、修复
C6: 耐压测试、泄漏量测试
C7: 备件 | D7: 蝶板
D8: 阀芯密封组件
D9: 阀座
D10: 阀杆
A11: 2 | B11: PN25/PN40 | C11: 阀门解体，清理、更换阀内密封件，阀门整体装配及防腐处理
C12: 清洗填料函，更换填料，清理阀杆
C13: 阀体、蝶板、阀轴补焊、修复
C14: 耐压测试、泄漏量测试
C15: 备件 | D15: 蝶板
D16: 阀芯密封组件
D17: 阀座
D18: 阀杆
E19: =SUM(E3:E18) -> 0 | F19: =SUM(F3:F18) -> 0 | G19: =SUM(G3:G18) -> 0 | H19: =SUM(H3:H18) -> 0 | I19: =SUM(I3:I18) -> 0 | J19: =SUM(J3:J18) -> 0 | K19: =SUM(K3:K18) -> 0 | L19: =SUM(L3:L18) -> 0 | ... P19: =SUM(P3:P18) -> 0 | Q19: =SUM(E19:P19) -> 0
A20: 总价（元）：2621392 | Q20: =Q19 -> 0

Sheet 执行机构
A1: 执行机构分项报价表
A2: 序号 | B2: 压力等级 | C2: 项目、价格、通径 | D2: 200Cm2及以下 | E2: 400Cm2 | F2: 600Cm2 | G2: 800Cm2 | H2: 1000Cm2 | I2: 1400Cm2 | J2: 1800Cm2 | K2: 2200Cm2 | L2: 2600Cm2 | M2: 3000Cm2 及以上
B3: 气动薄膜执行机构
A4: 1 | B4: 备件 | C4: 气动薄膜执行机构弹簧
A5: 2 | C5: 气动薄膜执行机构膜片
A6: 3 | C6: 气动薄膜执行机构推杆
A7: 序号 | B7: 项目、价格、通径 | D7: Φ50及以下 | E7: Φ100 | F7: Φ125 | G7: Φ140 | H7: Φ160 | I7: Φ210 | J7: Φ270 | K7: Φ300 | L7: Φ350 | M7: Φ400及以上
B8: 气动活塞执行机构
A9: 4 | B9: 备件 | C9: 气动活塞执行机构弹簧
A10: 5 | C10: 气动活塞执行机构活塞
A11: 6 | C11: 气动活塞执行机构缸筒
A12: 7 | C12: 气动活塞执行机构拨叉
A13: 8 | C13: 气动活塞执行机构推杆
A14: 序号 | B14: 项目、价格、通径 | D14: DN50 PN16 | E14: DN100 PN16 | F14: DN150 PN16 | G14: DN200 PN16 | H14: DN250 PN16 | I14: DN300 PN16 | J14: DN350 PN16 | K14: DN400 PN16 | L14: DN450 PN16 | M14: DN500 PN16及以上
B15: 电动执行机构
A16: 9 | B16: 备件 | C16: 电动执行机构接线座
A17: 10 | C17: 电动执行机构接传动机构
A18: 11 | C18: 电动执行机构控制板
A19: 12 | C19: 电动执行机构电机
D20: =D3+D4+D5+D6+D8+D9+D10+D11+D12+D13+D15+D16+D17+D18+D19 -> 0 | E20: =E3+E4+E5+E6+E8+E9+E10+E11+E12+E13+E15+E16+E17+E18+E19 -> 0 | F20: =F3+F4+F5+F6+F8+F9+F10+F11+F12+F13+F15+F16+F17+F18+F19 -> 0 | G20: =G3+G4+G5+G6+G8+G9+G10+G11+G12+G13+G15+G16+G17+G18+G19 -> 0 | H20: =H3+H4+H5+H6+H8+H9+H10+H11+H12+H13+H15+H16+H17+H18+H19 -> 0 | I20: =I3+I4+I5+I6+I8+I9+I10+I11+I12+I13+I15+I16+I17+I18+I19 -> 0 | J20: =J3+J4+J5+J6+J8+J9+J10+J11+J12+J13+J15+J16+J17+J18+J19 -> 0 | K20: =K3+K4+K5+K6+K8+K9+K10+K11+K12+K13+K15+K16+K17+K18+K19 -> 0 | ... M20: =M3+M4+M5+M6+M8+M9+M10+M11+M12+M13+M15+M16+M17+M18+M19 -> 0 | N20: =SUM(D20:M20) -> 0
A21: 总价（元）： | N21: =N20 -> 0
